BEGIN:VCALENDAR
VERSION:2.0
PRODID:-//ChamberMaster//Event Calendar 2.0//EN
METHOD:PUBLISH
X-PUBLISHED-TTL:P3D
REFRESH-INTERVAL:P3D
CALSCALE:GREGORIAN
BEGIN:VEVENT
DTSTART:20190413T003000Z
DTEND:20190413T033000Z
X-MICROSOFT-CDO-ALLDAYEVENT:FALSE
SUMMARY:Literacy Council Spelling Bee
DESCRIPTION:Participate in a dinner\, auction\, and team spelling competition to support free English as a second language classes for adults through the Literacy Council of Chelan and Douglas Counties. Each "hive" (table) of eight adults teams up in a spelling competition against other hives. Register a full hive or come on your own and join one that night!
X-ALT-DESC;FMTTYPE=text/html:Participate in a dinner\, auction\, and team spelling competition to support free English as a second language classes for adults through the Literacy Council of Chelan and Douglas Counties. Each &ldquo\;hive&rdquo\; (table) of eight adults teams up in a spelling competition against other hives. Register a full hive or come on your own and join one that night!
LOCATION:Pybus Public Market
UID:e.289.7164
SEQUENCE:3
DTSTAMP:20260425T232603Z
URL:https://business.wenatchee.org/events/details/literacy-council-spelling-bee-7164
END:VEVENT

END:VCALENDAR
