BEGIN:VCALENDAR
VERSION:2.0
PRODID:-//ChamberMaster//Event Calendar 2.0//EN
METHOD:PUBLISH
X-PUBLISHED-TTL:P3D
REFRESH-INTERVAL:P3D
CALSCALE:GREGORIAN
BEGIN:VEVENT
DTSTART:20211101T003000Z
DTEND:20211101T020000Z
X-MICROSOFT-CDO-ALLDAYEVENT:FALSE
SUMMARY:Light the Night
DESCRIPTION:Sage Hills Church invites all of the Wenatchee Valley to their parking lot for a fun\, safe family event! Dress up and come with your family to our circle of decorated cars. Come enjoy complimentary tacos by Arturo Orozco\, popcorn and hot chocolate. L-Bow the Clown and Seth the Magician will be there too!
X-ALT-DESC;FMTTYPE=text/html:Sage Hills Church invites all of the Wenatchee Valley to their parking lot for a fun\, safe family event! Dress up and come with your family to our circle of decorated cars. Come enjoy complimentary tacos by Arturo Orozco\, popcorn and hot chocolate. L-Bow the Clown and Seth the Magician will be there too!
LOCATION:Sage Hills Church
UID:e.289.7899
SEQUENCE:3
DTSTAMP:20260424T165141Z
URL:https://business.wenatchee.org/events/details/light-the-night-7899
END:VEVENT

END:VCALENDAR
