BEGIN:VCALENDAR
VERSION:2.0
PRODID:-//ChamberMaster//Event Calendar 2.0//EN
METHOD:PUBLISH
X-PUBLISHED-TTL:P3D
REFRESH-INTERVAL:P3D
CALSCALE:GREGORIAN
BEGIN:VEVENT
DTSTART:20201011T003000Z
DTEND:20201011T030000Z
X-MICROSOFT-CDO-ALLDAYEVENT:FALSE
SUMMARY:Light the Loop
DESCRIPTION:Serve Wenatchee Valley is bringing back their community event "Light the LOOP"\, only this year it is going to have a different look and goal! "We plan to coordinate lighting the entire 9.6 miles of loop trail"\, says Thom Nees\, "We are inviting our communities to come together and stand in solidarity hand-in-hand or 6' apart (depending on what phase the counties will be in and in cooperation with the local health district) to celebrate where we are as a Sign of HOPE!".
X-ALT-DESC;FMTTYPE=text/html:Serve Wenatchee Valley is bringing back their community event &ldquo\;Light the LOOP&rdquo\;\, only this year it is going to have a different look and goal! &ldquo\;We plan to coordinate lighting the entire 9.6 miles of loop trail&rdquo\;\, says Thom Nees\, &ldquo\;We are inviting our communities to come together and stand in solidarity hand-in-hand or 6&rsquo\; apart (depending on what phase the counties will be in and in cooperation with the local health district) to celebrate where we are as a Sign of HOPE!&rdquo\;.
LOCATION:Apple Capital Loop Trail
UID:e.289.7722
SEQUENCE:3
DTSTAMP:20260424T154218Z
URL:https://business.wenatchee.org/events/details/light-the-loop-7722
END:VEVENT

END:VCALENDAR
