BEGIN:VCALENDAR
VERSION:2.0
PRODID:-//ChamberMaster//Event Calendar 2.0//EN
METHOD:PUBLISH
X-PUBLISHED-TTL:P3D
REFRESH-INTERVAL:P3D
CALSCALE:GREGORIAN
BEGIN:VEVENT
DTSTART:20200306T153000Z
DTEND:20200306T163000Z
X-MICROSOFT-CDO-ALLDAYEVENT:FALSE
SUMMARY:Legislative Update From Olympia
DESCRIPTION:The Legislature's 2020 session continues and the Chamber pays close attention. In our next update from Olympia\, our lobbyist\, Bruce Beckett\, will share details from the session's talks on a variety of issues. The next conference with Mr. Beckett is scheduled for March 6 at 7:30 a.m. The Chamber will not host the call\, so please dial 515-606-5164\, and when prompted enter the access code 497924 and state your name.
X-ALT-DESC;FMTTYPE=text/html:<span style="color: rgb(46\, 47\, 47)\; font-family: Arial\, Verdana\, Helvetica\, sans-serif\; font-size: 12px\; text-align: justify\;">The Legislature&#39\;s 2020 session continues and the Chamber pays close attention. In our next update from Olympia\, our lobbyist\, Bruce Beckett\, will share details from the session&#39\;s talks on a variety of issues. The next conference with Mr. Beckett is scheduled for March 6 at 7:30 a.m. The Chamber will not host the call\, so please dial 515-606-5164\, and when prompted enter the access code 497924 and state your name.</span>
LOCATION:
UID:e.289.7698
SEQUENCE:3
DTSTAMP:20260425T033032Z
URL:https://business.wenatchee.org/events/details/legislative-update-from-olympia-7698
END:VEVENT

END:VCALENDAR
