BEGIN:VCALENDAR
VERSION:2.0
PRODID:-//ChamberMaster//Event Calendar 2.0//EN
METHOD:PUBLISH
X-PUBLISHED-TTL:P3D
REFRESH-INTERVAL:P3D
CALSCALE:GREGORIAN
BEGIN:VEVENT
DTSTART:20210427T150000Z
DTEND:20210427T153000Z
X-MICROSOFT-CDO-ALLDAYEVENT:FALSE
SUMMARY:Legislative Update
DESCRIPTION:This legislative session was unlike any other. Join the WVCC's lobbyist Bruce Beckett for a legislative update Tuesday\, April 27th at 8am. This update will brief you on the legislative session overall\, the outcome of session including what was included in the three final budgets and what important issues made it to the Governor's desk.\n\n\n\nThis event is free but exclusive to current WVCC members\, please be sure to register to get the Zoom link.
X-ALT-DESC;FMTTYPE=text/html:<br />\nThis legislative session was unlike any other. Join the WVCC&#39\;s lobbyist Bruce Beckett for a legislative update Tuesday\, April 27th at 8am. This update will brief you on the legislative session overall\, the outcome of session including what was included in the three final budgets and what important issues made it to the Governor&#39\;s desk.<br />\n<br />\nThis event is free but exclusive to current WVCC members\, please be sure to register to get the Zoom link.
LOCATION:ZOOM
UID:e.289.7834
SEQUENCE:3
DTSTAMP:20260422T182959Z
URL:https://business.wenatchee.org/events/details/legislative-update-7834
END:VEVENT

END:VCALENDAR
