BEGIN:VCALENDAR
VERSION:2.0
PRODID:-//ChamberMaster//Event Calendar 2.0//EN
METHOD:PUBLISH
X-PUBLISHED-TTL:P3D
REFRESH-INTERVAL:P3D
CALSCALE:GREGORIAN
BEGIN:VEVENT
DTSTART:20220315T150000Z
DTEND:20220315T153000Z
X-MICROSOFT-CDO-ALLDAYEVENT:FALSE
SUMMARY:Legislative Session Wrap-Up with Bruce Beckett
DESCRIPTION:Have you been wondering what is going on in the Washington State Legislature this session? Join the WVCC's lobbyist Bruce Beckett for a legislative update.\n\n\n\nThis event is free but exclusive to current WVCC members\, please be sure to register to get the Zoom link at http://wenatchee.org/events/calendar/
X-ALT-DESC;FMTTYPE=text/html:<br />\n<span style="font-family: &quot\;times new roman&quot\;\; font-size: 16px\;">Have you been wondering what is going on in the Washington State Legislature this session? Join the WVCC&rsquo\;s lobbyist Bruce Beckett for a legislative update.<br />\n<br />\nThis event is free but exclusive to current WVCC members\, please be sure to register to get the Zoom link at http://wenatchee.org/events/calendar/</span>
LOCATION:
UID:e.289.8001
SEQUENCE:3
DTSTAMP:20260424T235034Z
URL:https://business.wenatchee.org/events/details/legislative-session-wrap-up-with-bruce-beckett-8001
END:VEVENT

END:VCALENDAR
