BEGIN:VCALENDAR
VERSION:2.0
PRODID:-//ChamberMaster//Event Calendar 2.0//EN
METHOD:PUBLISH
X-PUBLISHED-TTL:P3D
REFRESH-INTERVAL:P3D
CALSCALE:GREGORIAN
BEGIN:VEVENT
DTSTART:20190327T190000Z
DTEND:20190327T200000Z
X-MICROSOFT-CDO-ALLDAYEVENT:FALSE
SUMMARY:Legislative Lunchbox
DESCRIPTION:The Washington Policy Center Legislative Lunchbox\n\n\n\nThe biggest budget in state history!? A doubling of state spending in just a decade? Olympia is rolling in your tax revenues\, but still looking for more. This legislative session promises to be one of the most important in recent memory as legislators put together a state budget and decide on issues including health care\, school choice in education and the possibility of another gas tax increase. Don't miss your chance to connect live to legislators at the capitol throughout the session and give feedback on their work.
X-ALT-DESC;FMTTYPE=text/html:<br />\n<span style="font-family: &quot\;Open Sans&quot\;\, Arial\, Helvetica\, san-serif\; font-size: 16px\;"><u><strong>The Washington Policy Center Legislative Lunchbox</strong></u><br />\n<br />\nThe biggest budget in state history!? A doubling of state spending in just a decade? Olympia is rolling in your tax revenues\, but still looking for more. This legislative session promises to be one of the most important in recent memory as legislators put together a state budget and decide on issues including health care\, school choice in education and the possibility of another gas tax increase. Don&rsquo\;t miss your chance to connect live to legislators at the capitol throughout the session and give feedback on their work.</span>
LOCATION:Town Toyota Center 1300 Walla Walla Ave. Wenatchee\, WA\, 98801
UID:e.289.7183
SEQUENCE:3
DTSTAMP:20260425T231732Z
URL:https://business.wenatchee.org/events/details/legislative-lunchbox-7183
END:VEVENT

END:VCALENDAR
