BEGIN:VCALENDAR
VERSION:2.0
PRODID:-//ChamberMaster//Event Calendar 2.0//EN
METHOD:PUBLISH
X-PUBLISHED-TTL:P3D
REFRESH-INTERVAL:P3D
CALSCALE:GREGORIAN
BEGIN:VEVENT
DTSTART:20210508T230000Z
DTEND:20210509T030000Z
X-MICROSOFT-CDO-ALLDAYEVENT:FALSE
SUMMARY:La Terraza de Mainstreet
DESCRIPTION:La Terraza de Mainstreet is the first annual event commemorating the Cinco de Mayo holiday. Join us for tacos\, music\, and fun activities for the whole family! The Wenatchee Valley Chamber of Commerce Hispanic Business Council is proud to present this celebration to the community.\n\n\n\nThis event is FREE and open to everyone. Safety guidelines including masking and physical distancing will be followed.\n\n\n\nThank you to our main event sponsor\, Apple Valley Honda! & our entertainment sponsor\, Chelan Douglas Regional Port Authority!
X-ALT-DESC;FMTTYPE=text/html:<br />\n<span style="font-size:16px\;"><span style="font-family:verdana\;">La Terraza de Mainstreet is the first annual event commemorating the Cinco de Mayo holiday. Join us for tacos\, music\, and fun activities for the whole family! The Wenatchee Valley Chamber of Commerce Hispanic Business Council is proud to present this celebration to the community.<br />\n<br />\nThis event is FREE and open to everyone. Safety guidelines including masking and physical distancing will be followed.<br />\n<br />\nThank you to our main event sponsor\, Apple Valley Honda! &amp\; our entertainment sponsor\, Chelan Douglas Regional Port Authority!</span></span>
LOCATION:Pybus Public Market 3 N. Worthen St. Wenatchee\, WA 98801
UID:e.289.7835
SEQUENCE:3
DTSTAMP:20260422T201915Z
URL:https://business.wenatchee.org/events/details/la-terraza-de-mainstreet-7835
END:VEVENT

END:VCALENDAR
