BEGIN:VCALENDAR
VERSION:2.0
PRODID:-//ChamberMaster//Event Calendar 2.0//EN
METHOD:PUBLISH
X-PUBLISHED-TTL:P3D
REFRESH-INTERVAL:P3D
CALSCALE:GREGORIAN
BEGIN:VEVENT
DTSTART;VALUE=DATE:20200416
DTEND;VALUE=DATE:20200417
TRANSP:TRANSPARENT
X-MICROSOFT-CDO-ALLDAYEVENT:TRUE
SUMMARY:Ken Perry CE Class -CANCELLED
DESCRIPTION:Mark your calendars for a really great class that National Association of Professional Mortgage Women Wenatchee Valley is sponsoring at the Hilton Garden Inn.  This class will offer those that need continuing education credit for licensing to get that locally and learn from the best.  Ken is super entertaining and educational\, and he's been an NAPMW member for many years.  Class price is $159 for those that need hours\, and $59 for those that don't but want to come.  This price includes lunch!!!   You'll earn 8 CE hours and 1 WA Law that is taken online (after\, but included in price).  RESCHEDULED FOR OCTOBER 15TH
X-ALT-DESC;FMTTYPE=text/html:Mark your calendars for a really great class that <span style="color: rgb(63\, 63\, 63)\; font-family: Arial\, sans-serif\; font-size: 14px\;">National Association of Professional Mortgage Women</span> Wenatchee Valley is sponsoring at the&nbsp\;Hilton Garden Inn.&nbsp\; This class will offer those that need continuing education credit for licensing to get that locally and learn from the best.&nbsp\; Ken is super entertaining and educational\, and he&rsquo\;s been an NAPMW member for many years.&nbsp\; Class price is $159 for those that need hours\, and $59 for those that don&rsquo\;t but want to come.&nbsp\; This price includes lunch!!!&nbsp\; &nbsp\;You&rsquo\;ll earn 8 CE hours and 1 WA Law that is taken online (after\, but included in price).&nbsp\; RESCHEDULED FOR OCTOBER 15TH<br />\n&nbsp\;
LOCATION:25 N. Worthen St. Wenatchee\, WA 98801
UID:e.289.7638
SEQUENCE:3
DTSTAMP:20260425T014622Z
URL:https://business.wenatchee.org/events/details/ken-perry-ce-class-cancelled-7638
END:VEVENT

END:VCALENDAR
