BEGIN:VCALENDAR
VERSION:2.0
PRODID:-//ChamberMaster//Event Calendar 2.0//EN
METHOD:PUBLISH
X-PUBLISHED-TTL:P3D
REFRESH-INTERVAL:P3D
CALSCALE:GREGORIAN
BEGIN:VEVENT
DTSTART:20190413T210000Z
DTEND:20190414T000000Z
X-MICROSOFT-CDO-ALLDAYEVENT:FALSE
SUMMARY:K9s and Wines
DESCRIPTION:Chelan County Sheriffs Office is teaming up again with Pybus Market to present K9s and Wines!!!!!! This family fun event will feature K9 demonstrations\, raffle\, silent auction\, prizes for the kids at Pybus banquet room and parking lot. This will be a unique opportunity for the public to meet and interact with the Chelan County K9 handlers along with their amazing furry partners. All proceeds and money raised will go to help purchase new equipment and training for our dogs and handlers. Please come and support this worthy cause. We are excited to showcase our dogs in an afternoon of fun for the whole family at Pybus in Wenatchee.
X-ALT-DESC;FMTTYPE=text/html:Chelan County Sheriffs Office is teaming up again with Pybus Market to present K9s and Wines!!!!!! This family fun event will feature K9 demonstrations\, raffle\, silent auction\, prizes for the kids at Pybus banquet room and parking lot. This will be a unique opportunity for the public to meet and interact with the Chelan County K9 handlers along with their amazing furry partners. All proceeds and money raised will go to help purchase new equipment and training for our dogs and handlers. Please come and support this worthy cause. We are excited to showcase our dogs in an afternoon of fun for the whole family at Pybus in Wenatchee.
LOCATION:Pybus Banquet hall
UID:e.289.6956
SEQUENCE:3
DTSTAMP:20260425T213826Z
URL:https://business.wenatchee.org/events/details/k9s-and-wines-6956
END:VEVENT

END:VCALENDAR
