BEGIN:VCALENDAR
VERSION:2.0
PRODID:-//ChamberMaster//Event Calendar 2.0//EN
METHOD:PUBLISH
X-PUBLISHED-TTL:P3D
REFRESH-INTERVAL:P3D
CALSCALE:GREGORIAN
BEGIN:VEVENT
DTSTART:20191003T230000Z
DTEND:20191004T020000Z
X-MICROSOFT-CDO-ALLDAYEVENT:FALSE
SUMMARY:Joyful Scholars Montessori Community Open House
DESCRIPTION:Come find out more about Montessori for older students! Joyful Scholars offers grades 4-12 and is currently enrolling grades 4-10. Take a tour\, talk with the teachers and find out more!
X-ALT-DESC;FMTTYPE=text/html:Come find out more about Montessori for older students! Joyful Scholars offers grades 4-12 and is currently enrolling grades 4-10. Take a tour\, talk with the teachers and find out more!
LOCATION:249 N. Mission\, Wenatchee\, grades 4-6 245 N. Chelan\, Wenatchee\, grades 7-12
UID:e.289.7469
SEQUENCE:3
DTSTAMP:20260425T120720Z
URL:https://business.wenatchee.org/events/details/joyful-scholars-montessori-community-open-house-7469
END:VEVENT

END:VCALENDAR
