BEGIN:VCALENDAR
VERSION:2.0
PRODID:-//ChamberMaster//Event Calendar 2.0//EN
METHOD:PUBLISH
X-PUBLISHED-TTL:P3D
REFRESH-INTERVAL:P3D
CALSCALE:GREGORIAN
BEGIN:VEVENT
DTSTART:20190417T020000Z
DTEND:20190417T033000Z
X-MICROSOFT-CDO-ALLDAYEVENT:FALSE
SUMMARY:Is Truth Really Dead In America?
DESCRIPTION:Alternative facts\, fake news\, post-truth these phrases have flooded the American conversation over the past several years. But how bad is it really\, and what can we\, as a society and as individuals\, do to be better informed? WSU professor Steven Stehr investigates the roots and consequences of the erosion of truth\, with a focus on politics and science. From the rise of conspiracy theories to the echo chamber of social media\, Stehr leads a conversation that asks to what extent are we living in a post-truth world? Have both political parties used deception to their advantage? How does the use of knowledge and facts vary in different policy debates? Taking us through real-world examples of conspiracy theories\, junk science\, and fake news\, Stehr shows audiences how to find facts in a world of misinformation
X-ALT-DESC;FMTTYPE=text/html:Alternative facts\, fake news\, post-truth&mdash\;these phrases have flooded the American conversation over the past several years. But how bad is it really\, and what can we\, as a society and as individuals\, do to be better informed? WSU professor Steven Stehr investigates the roots and consequences of the erosion of truth\, with a focus on politics and science. From the rise of conspiracy theories to the echo chamber of social media\, Stehr leads a conversation that asks to what extent are we living in a post-truth world? Have both political parties used deception to their advantage? How does the use of knowledge and facts vary in different policy debates? Taking us through real-world examples of conspiracy theories\, junk science\, and fake news\, Stehr shows audiences how to find facts in a world of misinformation
LOCATION:Canyon Wren Recietal Hall
UID:e.289.7209
SEQUENCE:3
DTSTAMP:20260425T214804Z
URL:https://business.wenatchee.org/events/details/is-truth-really-dead-in-america-7209
END:VEVENT

END:VCALENDAR
