BEGIN:VCALENDAR
VERSION:2.0
PRODID:-//ChamberMaster//Event Calendar 2.0//EN
METHOD:PUBLISH
X-PUBLISHED-TTL:P3D
REFRESH-INTERVAL:P3D
CALSCALE:GREGORIAN
BEGIN:VEVENT
DTSTART:20210929T183000Z
DTEND:20210929T203000Z
X-MICROSOFT-CDO-ALLDAYEVENT:FALSE
SUMMARY:Innovator Awards Luncheon
DESCRIPTION:20th Annual Innovator Awards Luncheon celebrating the drive\, passion\, and spirit of innovators in North Central Washington while inspiring those who are just starting their journey. We are accepting nominations from the community in five different categories. The deadline for nominations is July 28. Categories for nomination include: - Entrepreneur of the Year - Newcomer In Technology - STEM Champion of the Year - STEM College Student Innovator of the Year - Future Technology Leader of the Year (K-12)
X-ALT-DESC;FMTTYPE=text/html:20th Annual Innovator Awards Luncheon celebrating the drive\, passion\, and spirit of innovators in North Central Washington while inspiring those who are just starting their journey. We are accepting nominations from the community in five different categories. The deadline for nominations is July 28. Categories for nomination include: - Entrepreneur of the Year - Newcomer In Technology - STEM Champion of the Year - STEM College Student Innovator of the Year - Future Technology Leader of the Year (K-12)
LOCATION:Wenatchee Convention Center
UID:e.289.7868
SEQUENCE:3
DTSTAMP:20260424T135342Z
URL:https://business.wenatchee.org/events/details/innovator-awards-luncheon-7868
END:VEVENT

END:VCALENDAR
