BEGIN:VCALENDAR
VERSION:2.0
PRODID:-//ChamberMaster//Event Calendar 2.0//EN
METHOD:PUBLISH
X-PUBLISHED-TTL:P3D
REFRESH-INTERVAL:P3D
CALSCALE:GREGORIAN
BEGIN:VEVENT
DTSTART:20220325T190000Z
DTEND:20220325T203000Z
X-MICROSOFT-CDO-ALLDAYEVENT:FALSE
SUMMARY:Industry Tour
DESCRIPTION:Every month\, we visit a different site in person for a behind-the-scenes look into organizations in the area. This is a free community event - but hurry\, registration is limited! NCW Tech Alliance and Blue Spirits Distillery invite you to the Cashmere Mill Site. Since being named 2019 Entrepreneur of the year\, Jeff Soehren has expanded his operations to accommodate exciting growth opportunities. Take a tour of Blue Spirits Distilling's manufacturing facility. Afterward\, join us for a catered lunch some networking.
X-ALT-DESC;FMTTYPE=text/html:Every month\, we visit a different site in person for a behind-the-scenes look into organizations in the area. This is a free community event - but hurry\, registration is limited! NCW Tech Alliance and Blue Spirits Distillery invite you to the Cashmere Mill Site. Since being named 2019 Entrepreneur of the year\, Jeff Soehren has expanded his operations to accommodate exciting growth opportunities. Take a tour of Blue Spirits Distilling&#39\;s manufacturing facility. Afterward\, join us for a catered lunch some networking.
LOCATION:Cashmere Mill Site 5441 Sunset Highway Cashmere\, WA 98815
UID:e.289.8002
SEQUENCE:3
DTSTAMP:20260424T234757Z
URL:https://business.wenatchee.org/events/details/industry-tour-8002
END:VEVENT

END:VCALENDAR
