BEGIN:VCALENDAR
VERSION:2.0
PRODID:-//ChamberMaster//Event Calendar 2.0//EN
METHOD:PUBLISH
X-PUBLISHED-TTL:P3D
REFRESH-INTERVAL:P3D
CALSCALE:GREGORIAN
BEGIN:VEVENT
DTSTART:20220317T190000Z
DTEND:20220317T200000Z
X-MICROSOFT-CDO-ALLDAYEVENT:FALSE
SUMMARY:In a world of Amazon\, survival.
DESCRIPTION:Our next What's For Lunch program is hosted by local business owners! This panel discussion will cover innovative ideas to implement in your business model to be successful post-pandemic. The panelists will also discuss how the pandemic inspired changes in how services are delivered.\n\n\n\nThis event is FREE\, please register to receive the Zoom link.
X-ALT-DESC;FMTTYPE=text/html:<br />\n<span style="font-size:14px\;"><span style="font-family:verdana\;">Our next What&rsquo\;s For Lunch program is hosted by local business owners! This panel discussion will cover innovative ideas to implement in your business model to be successful post-pandemic. The panelists will also discuss how the pandemic inspired changes in how services are delivered.<br />\n<br />\nThis event is FREE\, please register to receive the Zoom link.</span></span>
LOCATION:Zoom - online event
UID:e.289.7950
SEQUENCE:3
DTSTAMP:20260424T235120Z
URL:https://business.wenatchee.org/events/details/in-a-world-of-amazon-survival-7950
END:VEVENT

END:VCALENDAR
