BEGIN:VCALENDAR
VERSION:2.0
PRODID:-//ChamberMaster//Event Calendar 2.0//EN
METHOD:PUBLISH
X-PUBLISHED-TTL:P3D
REFRESH-INTERVAL:P3D
CALSCALE:GREGORIAN
BEGIN:VEVENT
DTSTART:20210616T190000Z
DTEND:20210616T200000Z
X-MICROSOFT-CDO-ALLDAYEVENT:FALSE
SUMMARY:How to Hire Quality Employees
DESCRIPTION:During this program\, John Morosco\, Small Business Development Center\, will share the best recruitment policies used by several top business operations known for their extraordinary hiring practices. A good recruitment process may allow your organization to find qualified candidates quickly and efficiently and increase retention. Retention has become key to success in today's complex HR process.\n\n \n\nJohn will also address problems hiring managers may encounter in 2021 and how some industry leaders outsource recruitment processes to outside agencies. We will discuss some current trends for and against the use of these vendors.\n\n \n\nThe outcome of this informational session is to share the latest business practices others are using to create longevity and loyalty in an organization. \n\n\n\nThis event is FREE\, please register to receive the Zoom link!\nJohn is a Certified Business Advisor with over 30 years of small business experience which includes business ownership. Much of his career has been spent working to maximize the customer experience while still making a profit to sustain the business. Before joining the Washington SBDC\, John was a business advisor in the U.S. Virgin Islands. He has extensive experience managing restaurants\, hotels\, assisted living facilities and skilled nursing facilities. He also owned an Italian restaurant and started his own janitorial services company\, which he later sold.\n\nWhile in the U.S. Virgin Islands\, John taught hospitality and business courses at the University of the Virgin Islands\, where he was an assistant professor. John holds a Bachelor of Science in Hotel\, Restaurant\, and Tourism from Florida International University and a Master of Public Administration in Long-Term Care from the University of New Haven.\n\nAreas of specialization include:\n\n\n	Sales and marketing\n	Staffing and personnel\n	Cultivating excellent customer service\n	Trouble-shooting at-risk businesses\n	Hospitality\n	Healthcare
X-ALT-DESC;FMTTYPE=text/html:<br />\n<span style="font-family:arial\;"><span style="font-size:14px\;">During this program\, John Morosco\, Small Business Development Center\, will share the best recruitment policies used by several top business operations known for their extraordinary hiring practices. A good recruitment process may allow your organization to find qualified candidates quickly and efficiently and increase retention. Retention has become key to success in today&rsquo\;s complex HR process.<br />\n&nbsp\;<br />\nJohn will also address problems hiring managers may encounter in 2021 and how some industry leaders outsource recruitment processes to outside agencies. We will discuss some current trends for and against the use of these vendors.<br />\n&nbsp\;<br />\nThe outcome of this informational session is to share the latest business practices others are using to create longevity and loyalty in an organization.&nbsp\;<br />\n<br />\nThis event is FREE\, please register to receive the Zoom link!</span></span>\n<p style="box-sizing: border-box\; margin: 0.85em 0px\; padding: 0px\; border: 0px rgb(225\, 225\, 225)\; font-variant-numeric: inherit\; font-variant-east-asian: inherit\; font-stretch: inherit\; font-size: 14.95px\; line-height: inherit\; font-family: &quot\;open sans&quot\;\, HelveticaNeue\, &quot\;Helvetica Neue&quot\;\, Helvetica-Neue\, Helvetica\, Arial\, sans-serif\; vertical-align: baseline\; color: rgb(102\, 102\, 102)\; text-align: justify\;"><span style="color:#000000\;"><span style="font-family:arial\;"><span style="font-size:14px\;">John is a Certified Business Advisor with over 30 years of small business experience which includes business ownership. Much of his career has been spent working to maximize the customer experience while still making a profit to sustain the business. Before joining the Washington SBDC\, John was a business advisor in the U.S. Virgin Islands. He has extensive experience managing restaurants\, hotels\, assisted living facilities and skilled nursing facilities. He also owned an Italian restaurant and started his own janitorial services company\, which he later sold.</span></span></span></p>\n\n<p style="box-sizing: border-box\; margin: 0.85em 0px\; padding: 0px\; border: 0px rgb(225\, 225\, 225)\; font-variant-numeric: inherit\; font-variant-east-asian: inherit\; font-stretch: inherit\; font-size: 14.95px\; line-height: inherit\; font-family: &quot\;open sans&quot\;\, HelveticaNeue\, &quot\;Helvetica Neue&quot\;\, Helvetica-Neue\, Helvetica\, Arial\, sans-serif\; vertical-align: baseline\; color: rgb(102\, 102\, 102)\; text-align: justify\;"><span style="color:#000000\;"><span style="font-family:arial\;"><span style="font-size:14px\;">While in the U.S. Virgin Islands\, John taught hospitality and business courses at the University of the Virgin Islands\, where he was an assistant professor. John holds a Bachelor of Science in Hotel\, Restaurant\, and Tourism from Florida International University and a Master of Public Administration in Long-Term Care from the University of New Haven.</span></span></span></p>\n\n<p style="box-sizing: border-box\; margin: 0.85em 0px\; padding: 0px\; border: 0px rgb(225\, 225\, 225)\; font-variant-numeric: inherit\; font-variant-east-asian: inherit\; font-stretch: inherit\; font-size: 14.95px\; line-height: inherit\; font-family: &quot\;open sans&quot\;\, HelveticaNeue\, &quot\;Helvetica Neue&quot\;\, Helvetica-Neue\, Helvetica\, Arial\, sans-serif\; vertical-align: baseline\; color: rgb(102\, 102\, 102)\; text-align: justify\;"><span style="color:#000000\;"><span style="font-family:arial\;"><span style="font-size:14px\;"><em style="box-sizing: border-box\; margin: 0px\; padding: 0px\; border: 0px rgb(225\, 225\, 225)\; font-variant: inherit\; font-weight: inherit\; font-stretch: inherit\; font-size: inherit\; line-height: inherit\; font-family: inherit\; vertical-align: baseline\;">Areas of specialization include:</em></span></span></span></p>\n\n<ul style="box-sizing: border-box\; margin: 0px 0px 20px 7px\; padding-right: 0px\; padding-left: 0px\; border: 0px rgb(225\, 225\, 225)\; font-variant-numeric: inherit\; font-variant-east-asian: inherit\; font-stretch: inherit\; font-size: 14.95px\; line-height: inherit\; font-family: &quot\;open sans&quot\;\, HelveticaNeue\, &quot\;Helvetica Neue&quot\;\, Helvetica-Neue\, Helvetica\, Arial\, sans-serif\; vertical-align: baseline\; list-style-position: outside\; list-style-image: initial\; color: rgb(102\, 102\, 102)\; text-align: justify\;">\n	<li style="box-sizing: border-box\; margin: 0px 0px 0px 1em\; padding: 3px 0px\; border: 0px rgb(225\, 225\, 225)\; font: inherit\; vertical-align: baseline\;"><span style="color:#000000\;"><span style="font-family:arial\;"><span style="font-size:14px\;">Sales and marketing</span></span></span></li>\n	<li style="box-sizing: border-box\; margin: 0px 0px 0px 1em\; padding: 3px 0px\; border: 0px rgb(225\, 225\, 225)\; font: inherit\; vertical-align: baseline\;"><span style="color:#000000\;"><span style="font-family:arial\;"><span style="font-size:14px\;">Staffing and personnel</span></span></span></li>\n	<li style="box-sizing: border-box\; margin: 0px 0px 0px 1em\; padding: 3px 0px\; border: 0px rgb(225\, 225\, 225)\; font: inherit\; vertical-align: baseline\;"><span style="color:#000000\;"><span style="font-family:arial\;"><span style="font-size:14px\;">Cultivating excellent customer service</span></span></span></li>\n	<li style="box-sizing: border-box\; margin: 0px 0px 0px 1em\; padding: 3px 0px\; border: 0px rgb(225\, 225\, 225)\; font: inherit\; vertical-align: baseline\;"><span style="color:#000000\;"><span style="font-family:arial\;"><span style="font-size:14px\;">Trouble-shooting at-risk businesses</span></span></span></li>\n	<li style="box-sizing: border-box\; margin: 0px 0px 0px 1em\; padding: 3px 0px\; border: 0px rgb(225\, 225\, 225)\; font: inherit\; vertical-align: baseline\;"><span style="color:#000000\;"><span style="font-family:arial\;"><span style="font-size:14px\;">Hospitality</span></span></span></li>\n	<li style="box-sizing: border-box\; margin: 0px 0px 0px 1em\; padding: 3px 0px\; border: 0px rgb(225\, 225\, 225)\; font: inherit\; vertical-align: baseline\;"><span style="color:#000000\;"><span style="font-family:arial\;"><span style="font-size:14px\;">Healthcare</span></span></span></li>\n</ul>\n<br />\n<span style="font-family:arial\;"><span style="font-size:14px\;">&nbsp\;</span></span><br />\n&nbsp\;
LOCATION:Zoom/Online
UID:e.289.7840
SEQUENCE:3
DTSTAMP:20260424T085447Z
URL:https://business.wenatchee.org/events/details/how-to-hire-quality-employees-7840
END:VEVENT

END:VCALENDAR
