BEGIN:VCALENDAR
VERSION:2.0
PRODID:-//ChamberMaster//Event Calendar 2.0//EN
METHOD:PUBLISH
X-PUBLISHED-TTL:P3D
REFRESH-INTERVAL:P3D
CALSCALE:GREGORIAN
BEGIN:VEVENT
DTSTART:20230218T000000Z
DTEND:20230218T010000Z
X-MICROSOFT-CDO-ALLDAYEVENT:FALSE
SUMMARY:Host Wenatchee Ribbon Cutting
DESCRIPTION:Join us in celebrating the ribbon cutting of Wenatchee's newest event venue\, Host Wenatchee! Meet with the owners\, tour the space\, and learn more about their services. This event is free and open to the public.
X-ALT-DESC;FMTTYPE=text/html:<span style="font-family:calibri light\,sans-serif\;"><span style="font-size:11.0pt\;">Join us in celebrating the ribbon cutting of Wenatchee&rsquo\;s newest event venue\, Host Wenatchee! Meet with the owners\, tour the space\, and learn more about their services. This event is free and open to the public.&nbsp\;</span></span>
LOCATION:10 S. Columbia St.\, Wenatchee WA 98801
UID:e.289.8224
SEQUENCE:3
DTSTAMP:20260424T175437Z
URL:https://business.wenatchee.org/events/details/host-wenatchee-ribbon-cutting-8224
END:VEVENT

END:VCALENDAR
