BEGIN:VCALENDAR
VERSION:2.0
PRODID:-//ChamberMaster//Event Calendar 2.0//EN
METHOD:PUBLISH
X-PUBLISHED-TTL:P3D
REFRESH-INTERVAL:P3D
CALSCALE:GREGORIAN
BEGIN:VEVENT
DTSTART:20201210T190000Z
DTEND:20201210T200000Z
X-MICROSOFT-CDO-ALLDAYEVENT:FALSE
SUMMARY:Hospitality Roundtable
DESCRIPTION:Calling all hospitality industry business leaders. Get expert insights from panelists Anthony Anton\, Washington Hospitality\; Bruce Beckett\, The Beckett Group & WVCC's contract lobbyist\; David Blandford\, Washington Tourism Alliance and John Morosco\, Washington Small Business Development Center. Additionally\, we want to hear from you! We will open the conversation up for a discussion of the needs of the hospitality industry going forward and how the Chamber can help.\n\n \n\nThis event is FREE\, registration is required to receive the Zoom link.
X-ALT-DESC;FMTTYPE=text/html:<div style="color: rgb(64\, 63\, 66)\; font-family: Roboto\, sans-serif\; font-size: 14px\; white-space: pre-wrap\; text-align: justify\;">Calling all hospitality industry business leaders. Get expert insights from panelists Anthony Anton\, Washington Hospitality\; Bruce Beckett\, The Beckett Group &amp\; WVCC&rsquo\;s contract lobbyist\; David Blandford\, Washington Tourism Alliance and John Morosco\, Washington Small Business Development Center. Additionally\, we want to hear from you! We will open the conversation up for a discussion of the needs of the hospitality industry going forward and how the Chamber can help.</div>\n\n<div style="color: rgb(64\, 63\, 66)\; font-family: Roboto\, sans-serif\; font-size: 14px\; white-space: pre-wrap\; text-align: justify\;">&nbsp\;</div>\n\n<div style="color: rgb(64\, 63\, 66)\; font-family: Roboto\, sans-serif\; font-size: 14px\; white-space: pre-wrap\; text-align: justify\;">This event is FREE\, registration is required to receive the Zoom link.</div>\n
LOCATION:Zoom
UID:e.289.7782
SEQUENCE:3
DTSTAMP:20260424T140417Z
URL:https://business.wenatchee.org/events/details/hospitality-roundtable-7782
END:VEVENT

END:VCALENDAR
