BEGIN:VCALENDAR
VERSION:2.0
PRODID:-//ChamberMaster//Event Calendar 2.0//EN
METHOD:PUBLISH
X-PUBLISHED-TTL:P3D
REFRESH-INTERVAL:P3D
CALSCALE:GREGORIAN
BEGIN:VEVENT
DTSTART:20210923T000000Z
DTEND:20210923T010000Z
X-MICROSOFT-CDO-ALLDAYEVENT:FALSE
SUMMARY:Hologramhair Lounge Ribbon Cutting Ceremony
DESCRIPTION:Come and celebrate Hologramhair Lounge for their ribbon-cutting ceremony! After the cutting doors will be open and everyone will be let in\, and you can check out the space. Bring a friend\, say hello\, pick up a gift and even a couple discount cards! Masking is required regardless of vaccination status.
X-ALT-DESC;FMTTYPE=text/html:Come and celebrate Hologramhair Lounge for their ribbon-cutting ceremony! After the cutting doors will be open and everyone will be let in\, and you can check out the space. Bring a friend\, say hello\, pick up a gift and even a couple discount cards! Masking is required regardless of vaccination status.&nbsp\;
LOCATION:Hologramhair Lounge\, 100 11th St. NE. East Wenatchee\, WA 98802
UID:e.289.7879
SEQUENCE:3
DTSTAMP:20260424T135902Z
URL:https://business.wenatchee.org/events/details/hologramhair-lounge-ribbon-cutting-ceremony-7879
END:VEVENT

END:VCALENDAR
