BEGIN:VCALENDAR
VERSION:2.0
PRODID:-//ChamberMaster//Event Calendar 2.0//EN
METHOD:PUBLISH
X-PUBLISHED-TTL:P3D
REFRESH-INTERVAL:P3D
CALSCALE:GREGORIAN
BEGIN:VEVENT
DTSTART:20190214T013000Z
DTEND:20190214T030000Z
X-MICROSOFT-CDO-ALLDAYEVENT:FALSE
SUMMARY:Holland America Cruise Event
DESCRIPTION:Come discover the joy of cruising with Holland America Line and Seaborne. You're sure to find a vacation that stirs your soul - from the classic\, premium adventures offered by Holland America Line\, to the sumptuous world of Seaborne\, dedicated to your pleasure.
X-ALT-DESC;FMTTYPE=text/html:Come discover the joy of cruising with Holland America Line and Seaborne. You&#39\;re sure to find a vacation that stirs your soul - from the classic\, premium adventures offered by Holland America Line\, to the sumptuous world of Seaborne\, dedicated to your pleasure.
LOCATION:AAA Wenatchee 221 N Mission St. Wenatchee\, WA 98801
UID:e.289.7014
SEQUENCE:3
DTSTAMP:20260426T010016Z
URL:https://business.wenatchee.org/events/details/holland-america-cruise-event-7014
END:VEVENT

END:VCALENDAR
