BEGIN:VCALENDAR
VERSION:2.0
PRODID:-//ChamberMaster//Event Calendar 2.0//EN
METHOD:PUBLISH
X-PUBLISHED-TTL:P3D
REFRESH-INTERVAL:P3D
CALSCALE:GREGORIAN
BEGIN:VEVENT
DTSTART:20190611T230000Z
DTEND:20190612T010000Z
X-MICROSOFT-CDO-ALLDAYEVENT:FALSE
SUMMARY:Hilton Garden Inn Ribbon Cutting
DESCRIPTION:Join us as we celebrate Wenatchee's newest hotel\, Hilton Garden Inn.
X-ALT-DESC;FMTTYPE=text/html:<span style="color: rgb(29\, 33\, 41)\; font-family: system-ui\, -apple-system\, system-ui\, &quot\;.SFNSText-Regular&quot\;\, sans-serif\; font-size: 14px\; white-space: pre-wrap\;">Join us as we celebrate Wenatchee&#39\;s newest hotel\, Hilton Garden Inn. </span>
LOCATION:25 N. Worthen St.\, Wenatchee\, Washington 98801
UID:e.289.7304
SEQUENCE:3
DTSTAMP:20260425T181957Z
URL:https://business.wenatchee.org/events/details/hilton-garden-inn-ribbon-cutting-7304
END:VEVENT

END:VCALENDAR
