BEGIN:VCALENDAR
VERSION:2.0
PRODID:-//ChamberMaster//Event Calendar 2.0//EN
METHOD:PUBLISH
X-PUBLISHED-TTL:P3D
REFRESH-INTERVAL:P3D
CALSCALE:GREGORIAN
BEGIN:VEVENT
DTSTART:20190116T170000Z
DTEND:20190117T003000Z
X-MICROSOFT-CDO-ALLDAYEVENT:FALSE
SUMMARY:Hilton Garden Inn Job Fair
DESCRIPTION:COME WORK WITH US BECAUSE WE'RE A #BIGDEAL Flexible Work Schedules Paid Time Off Insurance Benefits Travel Discounts Entertainment Industry Discounts Competitive Wages
X-ALT-DESC;FMTTYPE=text/html:COME WORK WITH US BECAUSE WE&#39\;RE A #BIGDEAL Flexible Work Schedules Paid Time Off Insurance Benefits Travel Discounts Entertainment Industry Discounts Competitive Wages
LOCATION:Work Source Wenatchee Valley 270 9th St. NE\, Suite 240 East Wenatchee\, WA 98802
UID:e.289.6984
SEQUENCE:3
DTSTAMP:20260426T025820Z
URL:https://business.wenatchee.org/events/details/hilton-garden-inn-job-fair-6984
END:VEVENT

END:VCALENDAR
