BEGIN:VCALENDAR
VERSION:2.0
PRODID:-//ChamberMaster//Event Calendar 2.0//EN
METHOD:PUBLISH
X-PUBLISHED-TTL:P3D
REFRESH-INTERVAL:P3D
CALSCALE:GREGORIAN
BEGIN:VEVENT
DTSTART:20191005T183000Z
DTEND:20191005T210000Z
X-MICROSOFT-CDO-ALLDAYEVENT:FALSE
SUMMARY:Hike for a Cause
DESCRIPTION:This joint event with CASA and the YMCA has a collective goal of impacting 5000 children by year end. Both CASA and the Y have incredible outreach and are dedicated to the success of our valley's children. This family event will foster community support for our children while engaging our youth and family teams in walking\, running or biking at our gorgeous Walla Walla Point Park trails.\n\nOur event goal is to raise awareness for our outreach\, programs and services to children and families in our valley. All proceeds will be divided between CASA and the Y. Funds raised will support the YMCA's youth and teen programs\, and scholarship funds. As well as enable CASA to continue to provide child advocates for abused and neglected children in our community.\n\nWalk\, Bike\, Run\, Skate-it doesn't matter just participate! Go one mile\, go 11 miles\, but help us represent our collective impact as far as you can!\n\nRegistration begins at 10:30am\, start at 11:30am and awards at 1pm!\n\nRegistration bags include: wristband\, bandanna\, pedometer\, treats and sponsor goodies!\n\nPrizes for Best All Around Family Costume/Theme\, Best Costume\, Best Dog Costume\, Best Kids Costume.\n\nGames and family fun!!
X-ALT-DESC;FMTTYPE=text/html:<p>This joint event with CASA and the YMCA has a collective goal of impacting 5000 children by year end. Both CASA and the Y have incredible outreach and are dedicated to the success of our valley&rsquo\;s children. This family event will foster community support for our children while engaging our youth and family teams in walking\, running or biking at our gorgeous Walla Walla Point Park trails.</p>\n\n<p>Our event goal is to raise awareness for our outreach\, programs and services to children and families in our valley. All proceeds will be divided between CASA and the Y. Funds raised will support the YMCA&rsquo\;s youth and teen programs\, and scholarship funds. As well as enable CASA to continue to provide child advocates for abused and neglected children in our community.</p>\n\n<p>Walk\, Bike\, Run\, Skate-it doesn&#39\;t matter just participate! Go one mile\, go 11 miles\, but help us represent our collective impact as far as you can!</p>\n\n<p>Registration begins at 10:30am\, start at 11:30am and awards at 1pm!</p>\n\n<p>Registration bags include: wristband\, bandanna\, pedometer\, treats and sponsor goodies!</p>\n\n<p>Prizes for Best All Around Family Costume/Theme\, Best Costume\, Best Dog Costume\, Best Kids Costume.</p>\n\n<p><b>Games and family fun!!</b></p>\n
LOCATION:Walla Walla Point Park 1351 Walla Walla Ave Wenatchee\, WA 98801
UID:e.289.7364
SEQUENCE:3
DTSTAMP:20260425T120025Z
URL:https://business.wenatchee.org/events/details/hike-for-a-cause-7364
END:VEVENT

END:VCALENDAR
