BEGIN:VCALENDAR
VERSION:2.0
PRODID:-//ChamberMaster//Event Calendar 2.0//EN
METHOD:PUBLISH
X-PUBLISHED-TTL:P3D
REFRESH-INTERVAL:P3D
CALSCALE:GREGORIAN
BEGIN:VEVENT
DTSTART:20090313T003000Z
DTEND:20090313T030000Z
X-MICROSOFT-CDO-ALLDAYEVENT:FALSE
SUMMARY:High School Bridge Building Competition
DESCRIPTION:Students from high schools in Chelan and Douglas counties pit their handmade bridges against one another in regional competition. The bridges\, individually designed but built within standard specifications\, are judged by the amount of weight they can support before breaking. Winners advance to national competition in Chicago. The event is organized by local members of the National Society of Professional Engineers. For more information contact Ryan Peterson\,  rpeterson@RH2.com
X-ALT-DESC;FMTTYPE=text/html:Students from high schools in Chelan and Douglas counties pit their handmade bridges against one another in regional competition. The bridges\, individually designed but built within standard specifications\, are judged by the amount of weight they can support before breaking. Winners advance to national competition in Chicago. The event is organized by local members of the National Society of Professional Engineers. For more information contact Ryan Peterson\,  rpeterson@RH2.com\n
LOCATION:Wenatchee Valley Museum & Cultural Center
UID:e.289.309
SEQUENCE:3
DTSTAMP:20260421T100052Z
URL:https://business.wenatchee.org/events/details/high-school-bridge-building-competition-03-12-2009-309
END:VEVENT

END:VCALENDAR
