BEGIN:VCALENDAR
VERSION:2.0
PRODID:-//ChamberMaster//Event Calendar 2.0//EN
METHOD:PUBLISH
X-PUBLISHED-TTL:P3D
REFRESH-INTERVAL:P3D
CALSCALE:GREGORIAN
BEGIN:VEVENT
DTSTART;VALUE=DATE:20210928
DTEND;VALUE=DATE:20210929
TRANSP:TRANSPARENT
X-MICROSOFT-CDO-ALLDAYEVENT:TRUE
SUMMARY:Help Shape the Future of Riverfront Park!
DESCRIPTION:The City of East Wenatchee and Chelan PUD are continuing to develop the plan for Wenatchee Riverfront Park\, and we want to hear for the community. Come join us for an opportunity to provide input on design alternatives\, ask questions and enjoy some refreshments during the second open house gathering.
X-ALT-DESC;FMTTYPE=text/html:The City of East Wenatchee and Chelan PUD are continuing to develop the plan for Wenatchee Riverfront Park\, and we want to hear for the community. Come join us for an opportunity to provide input on design alternatives\, ask questions and enjoy some refreshments during the second open house gathering.
LOCATION:Pybus Marketplace LocalTel Event Center
UID:e.289.7885
SEQUENCE:3
DTSTAMP:20260424T134524Z
URL:https://business.wenatchee.org/events/details/help-shape-the-future-of-riverfront-park-7885
END:VEVENT

END:VCALENDAR
