BEGIN:VCALENDAR
VERSION:2.0
PRODID:-//ChamberMaster//Event Calendar 2.0//EN
METHOD:PUBLISH
X-PUBLISHED-TTL:P3D
REFRESH-INTERVAL:P3D
CALSCALE:GREGORIAN
BEGIN:VEVENT
DTSTART:20191109T200000Z
DTEND:20191110T000000Z
X-MICROSOFT-CDO-ALLDAYEVENT:FALSE
SUMMARY:Healthcare Enrollment Freedom Weekend
DESCRIPTION:Suzie Health Solutions is celebrating World Freedom Day. November 9th marks the 30th Anniversary of the Berlin Wall Falling. Suzie Health Solutions decided to put our Veteran who was there to work and enroll our neighbors in healthcare. They are the Washington Healthplan Finder's Full Service Enrollment Center for North Central Washington. Representative Kim Schrier is scheduled to stop in to visit the Enrollment Center. Healthcare is the number one question and we can find that solution if you want to change careers\, try a new career or even go on a serious adventure. #GetCoveredWA #LivingInsurance
X-ALT-DESC;FMTTYPE=text/html:Suzie Health Solutions is celebrating World Freedom Day. November 9th marks the 30th Anniversary of the Berlin Wall Falling. Suzie Health Solutions decided to put our Veteran who was there to work and enroll our neighbors in healthcare. They are the Washington Healthplan Finder&rsquo\;s Full Service Enrollment Center for North Central Washington. Representative Kim Schrier is scheduled to stop in to visit the Enrollment Center. Healthcare is the number one question and we can find that solution if you want to change careers\, try a new career or even go on a serious adventure. #GetCoveredWA #LivingInsurance
LOCATION:Suzie Health Solutions 1630 North Wenatchee Ave\; Suite 18 Wenatchee\, WA 98801
UID:e.289.7519
SEQUENCE:3
DTSTAMP:20260425T103236Z
URL:https://business.wenatchee.org/events/details/healthcare-enrollment-freedom-weekend-7519
END:VEVENT

END:VCALENDAR
