BEGIN:VCALENDAR
VERSION:2.0
PRODID:-//ChamberMaster//Event Calendar 2.0//EN
METHOD:PUBLISH
X-PUBLISHED-TTL:P3D
REFRESH-INTERVAL:P3D
CALSCALE:GREGORIAN
BEGIN:VEVENT
DTSTART:20191102T170000Z
DTEND:20191102T210000Z
X-MICROSOFT-CDO-ALLDAYEVENT:FALSE
SUMMARY:Healthcare Enrollment Fair
DESCRIPTION:Suzie Health Solutions is hosting the 6th Annual Open Enrollment Fair. They are the Washington Healthplan Finder's Full Service Enrollment Center for Central Washington. They answer questions and can assist in recommendations without charging a fee. There will be Healthcare providers and vendors answering questions about their services.
X-ALT-DESC;FMTTYPE=text/html:Suzie Health Solutions is hosting the 6th Annual Open Enrollment Fair. They are the Washington Healthplan Finder&rsquo\;s Full Service Enrollment Center for Central Washington. They answer questions and can assist in recommendations without charging a fee. There will be Healthcare providers and vendors answering questions about their services.
LOCATION:Wenatchee Community Center Veterans Hall 504 South Chelan Avenue Wenatchee\, WA 98801
UID:e.289.7420
SEQUENCE:3
DTSTAMP:20260425T121830Z
URL:https://business.wenatchee.org/events/details/healthcare-enrollment-fair-7420
END:VEVENT

END:VCALENDAR
