BEGIN:VCALENDAR
VERSION:2.0
PRODID:-//ChamberMaster//Event Calendar 2.0//EN
METHOD:PUBLISH
X-PUBLISHED-TTL:P3D
REFRESH-INTERVAL:P3D
CALSCALE:GREGORIAN
BEGIN:VEVENT
DTSTART:20190808T230000Z
DTEND:20190809T010000Z
X-MICROSOFT-CDO-ALLDAYEVENT:FALSE
SUMMARY:Hard Hat Winery Ribbon Cutting
DESCRIPTION:Join us in welcoming Wenatchee?s newest tasting room to the community.  Located at the bottom of Fifth and Riverside Dr. along the Riverfront  park they offer an inviting tasting room and a wonderful outdoor patio overlooking the park. For the event they will have wine specials and catered bites to enjoy while listening to tunes by Rylie Franks. It?s going to be a great night.
X-ALT-DESC;FMTTYPE=text/html:<span style="language:en-US\;"><span style="font-family:segoe ui\;">Join us in welcoming Wenatchee?s newest tasting room to the community.&nbsp\; Located at the bottom of Fifth and Riverside Dr. along the Riverfront&nbsp\; park they offer an inviting tasting room and a wonderful outdoor patio overlooking the park. For the event they will have wine specials and catered bites to enjoy while listening to tunes by Rylie Franks. It?s going to be a great night.</span></span><br>\n&nbsp\;
LOCATION:1 Fifth St. Unit 160\, Wenatchee WA 98801
UID:e.289.7396
SEQUENCE:3
DTSTAMP:20260425T163213Z
URL:https://business.wenatchee.org/events/details/hard-hat-winery-ribbon-cutting-7396
END:VEVENT

END:VCALENDAR
