BEGIN:VCALENDAR
VERSION:2.0
PRODID:-//ChamberMaster//Event Calendar 2.0//EN
METHOD:PUBLISH
X-PUBLISHED-TTL:P3D
REFRESH-INTERVAL:P3D
CALSCALE:GREGORIAN
BEGIN:VEVENT
DTSTART:20170804T003000Z
DTEND:20170804T033000Z
X-MICROSOFT-CDO-ALLDAYEVENT:FALSE
SUMMARY:GWATA Summer Social
DESCRIPTION:Join GWATA for the party of the summer! This year GWATA is hosting its summer social at Highlander Golf Course overlooking the beautiful Columbia River. This event includes a buffet dinner\, no-host bar\, live music by Eden Moody\, and networking with the NCW business\, technology\, and education community. This event is made possible by the support of GWATA Sponsor\, Native Network.
X-ALT-DESC;FMTTYPE=text/html:Join GWATA for the party of the summer! This year GWATA is hosting its summer social at Highlander Golf Course overlooking the beautiful Columbia River. This event includes a buffet dinner\, no-host bar\, live music by Eden Moody\, and networking with the NCW business\, technology\, and education community. This event is made possible by the support of GWATA Sponsor\, Native Network.
LOCATION:Highlander Golf Course
UID:e.289.3253
SEQUENCE:3
DTSTAMP:20260424T003404Z
URL:https://business.wenatchee.org/events/details/gwata-summer-social-3253
END:VEVENT

END:VCALENDAR
