BEGIN:VCALENDAR
VERSION:2.0
PRODID:-//ChamberMaster//Event Calendar 2.0//EN
METHOD:PUBLISH
X-PUBLISHED-TTL:P3D
REFRESH-INTERVAL:P3D
CALSCALE:GREGORIAN
BEGIN:VEVENT
DTSTART:20210921T150000Z
DTEND:20210921T160000Z
X-MICROSOFT-CDO-ALLDAYEVENT:FALSE
SUMMARY:Group Health and Long-term Care Insurance Q&A
DESCRIPTION:Join us for a presentation on the new long-term care insurance tax law - WA Cares Fund. Kathy Smithson with Smithson Insurance Services\, will touch on the tax law and on group health insurance for small businesses. The presentation will be followed by a Q&A with local insurance brokers.\n\n\n\n This event is made possible by our program sponsor\, Jake Davison - American Family Insurance Agent. This event is FREE\, please register to attend.
X-ALT-DESC;FMTTYPE=text/html:<br />\n<span style="font-size:14px\;"><span style="font-family:arial\;">Join us for a presentation on the&nbsp\;new long-term care insurance tax law - WA Cares Fund. Kathy Smithson with Smithson Insurance Services\, will touch on the tax law and on group health insurance for small businesses. The presentation will be followed by&nbsp\;a Q&amp\;A with local insurance brokers.<br />\n<br />\n<span style="text-align: justify\; white-space: pre-wrap\; color: rgb(29\, 33\, 41)\;">&#8203\;This event is made possible by our program sponsor\, </span><a href="https://www.facebook.com/JakeDavisonAgency/" rel="noopener noreferrer" style="color: rgb(56\, 88\, 152)\; font-family: Roboto\, sans-serif\; font-size: 14px\; text-align: justify\; white-space: pre-wrap\;" target="_blank">Jake Davison - American Family Insurance Agent</a>. This event is FREE\, please register to attend.</span></span>
LOCATION:Zoom - online event
UID:e.289.7884
SEQUENCE:3
DTSTAMP:20260424T135730Z
URL:https://business.wenatchee.org/events/details/group-health-and-long-term-care-insurance-q-a-7884
END:VEVENT

END:VCALENDAR
