BEGIN:VCALENDAR
VERSION:2.0
PRODID:-//ChamberMaster//Event Calendar 2.0//EN
METHOD:PUBLISH
X-PUBLISHED-TTL:P3D
REFRESH-INTERVAL:P3D
CALSCALE:GREGORIAN
BEGIN:VEVENT
DTSTART:20191030T000000Z
DTEND:20191030T020000Z
X-MICROSOFT-CDO-ALLDAYEVENT:FALSE
SUMMARY:Groundbreaking Ceremony
DESCRIPTION:Join us to celebrate the future state-of-the-art Wells Hall replacement building. A reception in the Music and Art Center (MAC) lobby will follow.\n\nFree and open to the public!
X-ALT-DESC;FMTTYPE=text/html:Join us to celebrate the future state-of-the-art Wells Hall replacement building. A reception in the Music and Art Center (MAC) lobby will follow.<br />\nFree and open to the public!
LOCATION:Wenatchee Valley College 1300 5th St. Wenatchee\, WA 98801
UID:e.289.7499
SEQUENCE:3
DTSTAMP:20260425T115935Z
URL:https://business.wenatchee.org/events/details/groundbreaking-ceremony-7499
END:VEVENT

END:VCALENDAR
