BEGIN:VCALENDAR
VERSION:2.0
PRODID:-//ChamberMaster//Event Calendar 2.0//EN
METHOD:PUBLISH
X-PUBLISHED-TTL:P3D
REFRESH-INTERVAL:P3D
CALSCALE:GREGORIAN
BEGIN:VEVENT
DTSTART:20190611T233000Z
DTEND:20190612T013000Z
X-MICROSOFT-CDO-ALLDAYEVENT:FALSE
SUMMARY:Great American Road Trips II
DESCRIPTION:Join John King\, AAA Washington's traveling geographer and cartographer\, to learn about dozens of road trip opportunities across the USA. Attendees will receive a booklet of hand-drawn maps outlining some of the best road trips around. Follow the Columbia River from source to mouth. Ramble over Oregon's Cascade Crest. Reminisce along old U.S. Highway 10 across the Northwest or take a beach break on Florida's Route A1A and more.
X-ALT-DESC;FMTTYPE=text/html:Join John King\, AAA Washington&rsquo\;s traveling geographer and cartographer\, to learn about dozens of road trip opportunities across the USA. Attendees will receive a booklet of hand-drawn maps outlining some of the best road trips around. Follow the Columbia River from source to mouth. Ramble over Oregon&rsquo\;s Cascade Crest. Reminisce along old U.S. Highway 10 across the Northwest or take a beach break on Florida&rsquo\;s Route A1A and more.
LOCATION:AAA Wenatchee Store 221 N Mission St. Wenatchee\, WA 98801
UID:e.289.7093
SEQUENCE:3
DTSTAMP:20260425T181556Z
URL:https://business.wenatchee.org/events/details/great-american-road-trips-ii-7093
END:VEVENT

END:VCALENDAR
