BEGIN:VCALENDAR
VERSION:2.0
PRODID:-//ChamberMaster//Event Calendar 2.0//EN
METHOD:PUBLISH
X-PUBLISHED-TTL:P3D
REFRESH-INTERVAL:P3D
CALSCALE:GREGORIAN
BEGIN:VEVENT
DTSTART:20191121T230000Z
DTEND:20191122T013000Z
X-MICROSOFT-CDO-ALLDAYEVENT:FALSE
SUMMARY:Global Entreprenuers Week: AGTECH PANEL
DESCRIPTION:Thursday\, November 21 | 3:00pm - 5:30pm Pybus Public Market LocalTel Event Center This is your chance to hear from entrepreneurs located in North Central Washington who are making waves in the agricultural industry. From new technologies to innovative use of agriculture standards\, you'll learn about their companies\, successes\, and challenges as they share their stories. Join us after the panel for a hosted happy hour to celebrate Global Entrepreneurship Week! Moderated by Ryan Smolinsky and the panelists include: Dr. Kate Evans\, WSU Tree Fruit Research & Extension Center JJ Dagorret\, Automated Ag Systems Dr. Virginia Emery\, Beta Hatch
X-ALT-DESC;FMTTYPE=text/html:Thursday\, November 21 | 3:00pm - 5:30pm Pybus Public Market LocalTel Event Center This is your chance to hear from entrepreneurs located in North Central Washington who are making waves in the agricultural industry. From new technologies to innovative use of agriculture standards\, you&rsquo\;ll learn about their companies\, successes\, and challenges as they share their stories. Join us after the panel for a hosted happy hour to celebrate Global Entrepreneurship Week! Moderated by Ryan Smolinsky and the panelists include: Dr. Kate Evans\, WSU Tree Fruit Research &amp\; Extension Center JJ Dagorret\, Automated Ag Systems Dr. Virginia Emery\, Beta Hatch
LOCATION:Pybus Event Center 3 N Worthen St Wenatchee\, WA 98801
UID:e.289.7556
SEQUENCE:3
DTSTAMP:20260425T114022Z
URL:https://business.wenatchee.org/events/details/global-entreprenuers-week-agtech-panel-7556
END:VEVENT

END:VCALENDAR
