BEGIN:VCALENDAR
VERSION:2.0
PRODID:-//ChamberMaster//Event Calendar 2.0//EN
METHOD:PUBLISH
X-PUBLISHED-TTL:P3D
REFRESH-INTERVAL:P3D
CALSCALE:GREGORIAN
BEGIN:VEVENT
DTSTART:20190701T220000Z
DTEND:20190701T230000Z
X-MICROSOFT-CDO-ALLDAYEVENT:FALSE
SUMMARY:Gateway Park - Ribbon Cutting Ceremony
DESCRIPTION:East Wenatchee's newest park is complete and we would like to invite you to share this exciting time with us. Join us and meet the team that was instrumental in this project\, tour the park\, enjoy snacks\, refreshments and music will be provided by Central Visual LLC.
X-ALT-DESC;FMTTYPE=text/html:East Wenatchee&#39\;s newest park is complete and we would like to invite you to share this exciting time with us. Join us and meet the team that was instrumental in this project\, tour the park\, enjoy snacks\, refreshments and music will be provided by Central Visual LLC.
LOCATION:860 Valley Mall Parkway East Wenatchee\, Wa 98802
UID:e.289.7365
SEQUENCE:3
DTSTAMP:20260425T163243Z
URL:https://business.wenatchee.org/events/details/gateway-park-ribbon-cutting-ceremony-7365
END:VEVENT

END:VCALENDAR
