BEGIN:VCALENDAR
VERSION:2.0
PRODID:-//ChamberMaster//Event Calendar 2.0//EN
METHOD:PUBLISH
X-PUBLISHED-TTL:P3D
REFRESH-INTERVAL:P3D
CALSCALE:GREGORIAN
BEGIN:VEVENT
DTSTART:20190318T190000Z
DTEND:20190318T200000Z
X-MICROSOFT-CDO-ALLDAYEVENT:FALSE
SUMMARY:Friends of the Wenatchee Library Board Meeting
DESCRIPTION:Our mission is to promote the use and enjoyment of the Wenatchee Public Library by supporting\, enhancing\, and expanding library services. Ask how you can join at the library's Circulation Desk (509) 662-5021. Don't forget your library when it comes to donating to your favorite charities. 100% of your cash donation to the Friends of the Wenatchee Library is tax deductible and will go toward making your library better and your use of it more fulfilling. Donate in person at the library\, or at wplcampaign.org.
X-ALT-DESC;FMTTYPE=text/html:Our mission is to promote the use and enjoyment of the Wenatchee Public Library by supporting\, enhancing\, and expanding library services. Ask how you can join at the library&#39\;s Circulation Desk (509) 662-5021. Don&#39\;t forget your library when it comes to donating to your favorite charities. 100% of your cash donation to the Friends of the Wenatchee Library is tax deductible and will go toward making your library better and your use of it more fulfilling. Donate in person at the library\, or at wplcampaign.org.
LOCATION:Wenatchee Public Library 310 Douglas Street Wenatchee\, WA 98801
UID:e.289.7046
SEQUENCE:3
DTSTAMP:20260425T233222Z
URL:https://business.wenatchee.org/events/details/friends-of-the-wenatchee-library-board-meeting-03-18-2019-7046
END:VEVENT

END:VCALENDAR
