BEGIN:VCALENDAR
VERSION:2.0
PRODID:-//ChamberMaster//Event Calendar 2.0//EN
METHOD:PUBLISH
X-PUBLISHED-TTL:P3D
REFRESH-INTERVAL:P3D
CALSCALE:GREGORIAN
BEGIN:VEVENT
DTSTART:20190420T180000Z
DTEND:20190420T200000Z
X-MICROSOFT-CDO-ALLDAYEVENT:FALSE
SUMMARY:Free Shredding Event
DESCRIPTION:Customer Appreciation Free Shredding Event!\n\n\n\n*Maximum of 6 Banker Boxes
X-ALT-DESC;FMTTYPE=text/html:Customer Appreciation Free Shredding Event!<br />\n<br />\n*Maximum of 6 Banker Boxes
LOCATION:Jessup Real Estate & Berkshire Hathaway Home Services 503 Grant Rd\, East Wenatchee
UID:e.289.7282
SEQUENCE:3
DTSTAMP:20260425T213709Z
URL:https://business.wenatchee.org/events/details/free-shredding-event-7282
END:VEVENT

END:VCALENDAR
