BEGIN:VCALENDAR
VERSION:2.0
PRODID:-//ChamberMaster//Event Calendar 2.0//EN
METHOD:PUBLISH
X-PUBLISHED-TTL:P3D
REFRESH-INTERVAL:P3D
CALSCALE:GREGORIAN
BEGIN:VEVENT
DTSTART:20190518T000000Z
DTEND:20190518T030000Z
X-MICROSOFT-CDO-ALLDAYEVENT:FALSE
SUMMARY:Free Grand Opening BBQ
DESCRIPTION:GRAND OPENING BLUE LAGOON POOL AND SPA GRAND PRIZE - FREE KAMADO JOE GRILL/SMOKER (valued at $500.00) Let the Celebration Begin!! Bring the family. Invite your friends. Friday\, May 17th. 5-8pm Ribbon Cutting at 5:30pm!! Get ready to WIN!! There will be Lots of GAMES\, Door Prizes too. Chances to WIN Free Pool Cleaning\, 60 minute Massage and other great surprises!! FREE hot dogs\, drinks and FREE dessert. FREE Samples of smoked brisket smoked on a Kamado Joe Grill... We will have door Prizes and games for all the family. Don't miss your chance to win. In Store SALES running all day long. Best prices of the year on Artesian Spas and Pool Services. You don't want to miss this Family Fun Event!!
X-ALT-DESC;FMTTYPE=text/html:GRAND OPENING BLUE LAGOON POOL AND SPA GRAND PRIZE - FREE KAMADO JOE GRILL/SMOKER (valued at $500.00) Let the Celebration Begin!! Bring the family. Invite your friends. Friday\, May 17th. 5-8pm Ribbon Cutting at 5:30pm!! Get ready to WIN!! There will be Lots of GAMES\, Door Prizes too. Chances to WIN Free Pool Cleaning\, 60 minute Massage and other great surprises!! FREE hot dogs\, drinks and FREE dessert. FREE Samples of smoked brisket smoked on a Kamado Joe Grill... We will have door Prizes and games for all the family. Don&#39\;t miss your chance to win. In Store SALES running all day long. Best prices of the year on Artesian Spas and Pool Services. You don&#39\;t want to miss this Family Fun Event!!
LOCATION:Blue Lagoon Pool and Spa 225 S Wenatchee Ave. Wenatchee WA 98801
UID:e.289.7301
SEQUENCE:3
DTSTAMP:20260425T200514Z
URL:https://business.wenatchee.org/events/details/free-grand-opening-bbq-7301
END:VEVENT

END:VCALENDAR
