BEGIN:VCALENDAR
VERSION:2.0
PRODID:-//ChamberMaster//Event Calendar 2.0//EN
METHOD:PUBLISH
X-PUBLISHED-TTL:P3D
REFRESH-INTERVAL:P3D
CALSCALE:GREGORIAN
BEGIN:VEVENT
DTSTART:20190414T210000Z
DTEND:20190414T230000Z
X-MICROSOFT-CDO-ALLDAYEVENT:FALSE
SUMMARY:Fred Meyer Easter Egg Hunt
DESCRIPTION:Join us for the Fred Meyer Easter Egg Hunt! There will be prizes\, fun and there will be candy in every egg. Divisions: 4 & Under\, 5-7 year\, 8-10 years Visually Impaired and Sensory areas! Prizes and candy may not be suitable for children under the age of 3. There will be prizes\, fun things to do and see\, plus every egg is guaranteed to have candy in it! The Brave w will be pictures with the Easter Bunny
X-ALT-DESC;FMTTYPE=text/html:Join us for the Fred Meyer Easter Egg Hunt! There will be prizes\, fun and there will be candy in every egg. Divisions: 4 &amp\; Under\, 5-7 year\, 8-10 years Visually Impaired and Sensory areas! Prizes and candy may not be suitable for children under the age of 3. There will be prizes\, fun things to do and see\, plus every egg is guaranteed to have candy in it! The Brave w will be pictures with the Easter Bunny
LOCATION:Eastmont Community Park\, by the Aquatic Center.
UID:e.289.7169
SEQUENCE:3
DTSTAMP:20260425T213033Z
URL:https://business.wenatchee.org/events/details/fred-meyer-easter-egg-hunt-7169
END:VEVENT

END:VCALENDAR
