BEGIN:VCALENDAR
VERSION:2.0
PRODID:-//ChamberMaster//Event Calendar 2.0//EN
METHOD:PUBLISH
X-PUBLISHED-TTL:P3D
REFRESH-INTERVAL:P3D
CALSCALE:GREGORIAN
BEGIN:VEVENT
DTSTART:20190622T190000Z
DTEND:20190622T220000Z
X-MICROSOFT-CDO-ALLDAYEVENT:FALSE
SUMMARY:Foster Care Information Fair
DESCRIPTION:Learn how to become a foster parent\, the supports available to foster parents and/or volunteer opportunities in Chelan and Douglas County. There will be a panel Q&A at 1:00.
X-ALT-DESC;FMTTYPE=text/html:Learn how to become a foster parent\, the supports available to foster parents and/or volunteer opportunities in Chelan and Douglas County. There will be a panel Q&amp\;A at 1:00.
LOCATION:Pybus Public Market
UID:e.289.7302
SEQUENCE:3
DTSTAMP:20260425T181005Z
URL:https://business.wenatchee.org/events/details/foster-care-information-fair-7302
END:VEVENT

END:VCALENDAR
