BEGIN:VCALENDAR
VERSION:2.0
PRODID:-//ChamberMaster//Event Calendar 2.0//EN
METHOD:PUBLISH
X-PUBLISHED-TTL:P3D
REFRESH-INTERVAL:P3D
CALSCALE:GREGORIAN
BEGIN:VEVENT
DTSTART;VALUE=DATE:20200416
DTEND;VALUE=DATE:20200417
TRANSP:TRANSPARENT
X-MICROSOFT-CDO-ALLDAYEVENT:TRUE
SUMMARY:Flywheel Investment Conference - CANCELLED
DESCRIPTION:CANCELLED\n\n\n\nFlywheel is a unique opportunity to connect with startup leaders and investors from Pacific Northwest. The conference includes panels and keynotes\, a "you don't want to miss this" after-party celebration\, plenty of networking opportunities\, and an entertaining investment competition. Sponsored by Confluence Health\, Microsoft\, Moss Adams\, and Ogden Murphy Wallace.
X-ALT-DESC;FMTTYPE=text/html:<div align="justify" style="color: rgb(46\, 47\, 47)\; font-family: Roboto\, sans-serif\; font-size: 14px\; text-align: justify\;"><strong><span style="font-size:14px\;"><span style="color:#FF0000\;"><span style="font-family: Arial\, Verdana\, Helvetica\, sans-serif\;">CANCELLED</span></span></span></strong></div>\n\n<div align="justify" style="color: rgb(46\, 47\, 47)\; font-family: Roboto\, sans-serif\; font-size: 14px\; text-align: justify\;"><br />\n<span style="font-size: 12px\; font-family: Arial\, Verdana\, Helvetica\, sans-serif\;">Flywheel is a unique opportunity to connect with startup leaders and investors from Pacific Northwest. The conference includes panels and keynotes\, a &quot\;you don&#39\;t want to miss this&quot\; after-party celebration\, plenty of networking opportunities\, and an entertaining investment competition. Sponsored by Confluence Health\, Microsoft\, Moss Adams\, and Ogden Murphy Wallace.</span></div>\n
LOCATION:
UID:e.289.7700
SEQUENCE:3
DTSTAMP:20260425T033431Z
URL:https://business.wenatchee.org/events/details/flywheel-investment-conference-cancelled-7700
END:VEVENT

END:VCALENDAR
