BEGIN:VCALENDAR
VERSION:2.0
PRODID:-//ChamberMaster//Event Calendar 2.0//EN
METHOD:PUBLISH
X-PUBLISHED-TTL:P3D
REFRESH-INTERVAL:P3D
CALSCALE:GREGORIAN
BEGIN:VEVENT
DTSTART:20190418T160000Z
DTEND:20190419T030000Z
X-MICROSOFT-CDO-ALLDAYEVENT:FALSE
SUMMARY:Flywheel Investment Conference
DESCRIPTION:The Flywheel Investment Conference is an annual full-day event that generates momentum and resources for early stage companies. The Flywheel Conference is a unique opportunity for angel investors\, venture capitalists\, entrepreneurs\, startups and community members to come together to connect\, learn\, and develop resources for building companies. Held in downtown Wenatchee\, WA\, the event features an investment competition\, educational seminars\, keynote presentations\, and after-party celebration. More information at www.flywheelconference.com.\n\n\n\nTickets are on sale now at www.flywheelconference.com/tickets.
X-ALT-DESC;FMTTYPE=text/html:The Flywheel Investment Conference is an annual full-day event that generates momentum and resources for early stage companies. The Flywheel Conference is a unique opportunity for angel investors\, venture capitalists\, entrepreneurs\, startups and community members to come together to connect\, learn\, and develop resources for building companies. Held in downtown Wenatchee\, WA\, the event features an investment competition\, educational seminars\, keynote presentations\, and after-party celebration. More information at www.flywheelconference.com.<br />\n<br />\nTickets are on sale now at www.flywheelconference.com/tickets.<br />\n<br />\n&nbsp\;
LOCATION:Wenatchee Convention Center
UID:e.289.7095
SEQUENCE:3
DTSTAMP:20260425T214115Z
URL:https://business.wenatchee.org/events/details/flywheel-investment-conference-04-18-2019-7095
END:VEVENT

END:VCALENDAR
