BEGIN:VCALENDAR
VERSION:2.0
PRODID:-//ChamberMaster//Event Calendar 2.0//EN
METHOD:PUBLISH
X-PUBLISHED-TTL:P3D
REFRESH-INTERVAL:P3D
CALSCALE:GREGORIAN
BEGIN:VEVENT
DTSTART:20181207T180000Z
DTEND:20181208T040000Z
X-MICROSOFT-CDO-ALLDAYEVENT:FALSE
SUMMARY:First Friday @ The Museum
DESCRIPTION:First Friday @ The Museum Friday\, December 7 10:00 AM  8:00 PM FREE Come see the Beauty of Bronze exhibit in the upstairs gallery. Beauty of Bronze is an annual collaboration between the Museum and Art on the Avenues to teach fifth grade students from Wenatchee public schools about sculpture. This exhibit is a showcase of their work. Admission is free all day starting at 10:00 AM at the Wenatchee Valley Museum & Cultural Center on the first Friday of every month\, and hours are extended to 8:00 PM with light refreshments and snacks offered after 5:00 PM.
X-ALT-DESC;FMTTYPE=text/html:First Friday @ The Museum Friday\, December 7 10:00 AM&ndash\; 8:00 PM FREE Come see the Beauty of Bronze exhibit in the upstairs gallery. Beauty of Bronze is an annual collaboration between the Museum and Art on the Avenues to teach fifth grade students from Wenatchee public schools about sculpture. This exhibit is a showcase of their work. Admission is free all day starting at 10:00 AM at the Wenatchee Valley Museum &amp\; Cultural Center on the first Friday of every month\, and hours are extended to 8:00 PM with light refreshments and snacks offered after 5:00 PM.
LOCATION:Wenatchee Valley Museum & Cultural Center
UID:e.289.6948
SEQUENCE:3
DTSTAMP:20260426T044446Z
URL:https://business.wenatchee.org/events/details/first-friday-the-museum-12-07-2018-6948
END:VEVENT

END:VCALENDAR
