BEGIN:VCALENDAR
VERSION:2.0
PRODID:-//ChamberMaster//Event Calendar 2.0//EN
METHOD:PUBLISH
X-PUBLISHED-TTL:P3D
REFRESH-INTERVAL:P3D
CALSCALE:GREGORIAN
BEGIN:VEVENT
DTSTART:20110205T010000Z
DTEND:20110205T030000Z
X-MICROSOFT-CDO-ALLDAYEVENT:FALSE
SUMMARY:First Friday reception: Valentines and Bill McGuire
DESCRIPTION:Enjoy nostalgic mementos of Valentine's Day through the years with cards and photographs from the museum's collection\, in our Lobby Cases. Upstairs in the Gold Gallery\, the "Bill McGuire: Fisherman\, Sportsman\, Craftsman" exhibit honoring the world-famous Rock Island resident winds up Feb. 19. McGuire will attend the reception and bring a special display of his fishing rods and gunstocks. Refreshments will be served.
X-ALT-DESC;FMTTYPE=text/html:Enjoy nostalgic mementos of Valentine&#39\;s Day through the years with cards and photographs from the museum&#39\;s collection\, in our Lobby Cases. Upstairs in the Gold Gallery\, the &quot\;Bill McGuire: Fisherman\, Sportsman\, Craftsman&quot\; exhibit honoring the world-famous Rock Island resident winds up Feb. 19. McGuire will attend the reception and bring a special display of his fishing rods and gunstocks. Refreshments will be served.
LOCATION:Wenatchee Valley Museum\, 127 S. Mission St.
UID:e.289.764
SEQUENCE:3
DTSTAMP:20260421T100543Z
URL:https://business.wenatchee.org/events/details/first-friday-reception-valentines-and-bill-mcguire-02-04-2011-764
END:VEVENT

END:VCALENDAR
