BEGIN:VCALENDAR
VERSION:2.0
PRODID:-//ChamberMaster//Event Calendar 2.0//EN
METHOD:PUBLISH
X-PUBLISHED-TTL:P3D
REFRESH-INTERVAL:P3D
CALSCALE:GREGORIAN
BEGIN:VEVENT
DTSTART:20190907T000000Z
DTEND:20190907T030000Z
X-MICROSOFT-CDO-ALLDAYEVENT:FALSE
SUMMARY:First Friday at the Wenatchee Valley Chamber of Commerce
DESCRIPTION:Let's celebrate community and the arts
X-ALT-DESC;FMTTYPE=text/html:Let's celebrate community and the arts&nbsp\;
LOCATION:Wenatchee Valley Chamber of Commerce and Tasting Room
UID:e.289.6931
SEQUENCE:3
DTSTAMP:20260425T134724Z
URL:https://business.wenatchee.org/events/details/first-friday-at-the-wenatchee-valley-chamber-of-commerce-09-06-2019-6931
END:VEVENT

END:VCALENDAR
