BEGIN:VCALENDAR
VERSION:2.0
PRODID:-//ChamberMaster//Event Calendar 2.0//EN
METHOD:PUBLISH
X-PUBLISHED-TTL:P3D
REFRESH-INTERVAL:P3D
CALSCALE:GREGORIAN
BEGIN:VEVENT
DTSTART:20200625T180000Z
DTEND:20200625T190000Z
X-MICROSOFT-CDO-ALLDAYEVENT:FALSE
SUMMARY:Finding your way out of the Unemployment Maze
DESCRIPTION:Are you a gig worker\, freelancer\, business owner or creative professional struggling to navigate the ins and outs of filing for unemployment? Then this webinar is for you!\n\nWashington Filmworks\, Whipsmart\, the Washington Employment Security Department and Artist Trust are partnering to present a webinar answering the most common questions we've heard about unemployment. Expert Scott Michael\, the Legal Services Coordination Manager for the Washington Employment Security Department\, will shed some light on lots of topics including:\n\n\n	Applying for a SBA loan vs. unemployment or both\n	Tracking your time as a small business owner or contractor\n	Navigating wait times for filing claims\n	Reasons for disqualification and how to navigate the appeal process\n	Eligibility for retroactive pay\n	Fraud and identity theft and how it impacts weekly claims\n\n\nSend over some of your own questions to [info@washingtonfilmworks.org] and we'll add them into the mix! (And if you attend the webinar\, you'll have a chance to ask them there as well).
X-ALT-DESC;FMTTYPE=text/html:<p style="margin: 0px\; padding: 0px\; color: rgb(111\, 114\, 135)\; font-size: 16px\; line-height: 1.5rem\; font-family: &quot\;Neue Plak&quot\;\, -apple-system\, BlinkMacSystemFont\, Roboto\, &quot\;Helvetica Neue&quot\;\, Helvetica\, Tahoma\, Arial\, sans-serif\; letter-spacing: 0.5px\;">Are you a gig worker\, freelancer\, business owner or creative professional struggling to navigate the ins and outs of filing for unemployment? Then this webinar is for you!</p>\n\n<p style="margin: 0px\; padding: 10px 0px 0px\; color: rgb(111\, 114\, 135)\; font-size: 16px\; line-height: 1.5rem\; font-family: &quot\;Neue Plak&quot\;\, -apple-system\, BlinkMacSystemFont\, Roboto\, &quot\;Helvetica Neue&quot\;\, Helvetica\, Tahoma\, Arial\, sans-serif\; letter-spacing: 0.5px\;">Washington Filmworks\, Whipsmart\, the Washington Employment Security Department and Artist Trust are partnering to present a webinar answering the most common questions we&rsquo\;ve heard about unemployment. Expert Scott Michael\, the Legal Services Coordination Manager for the Washington Employment Security Department\, will shed some light on lots of topics including:</p>\n\n<ul style="margin: 0px\; padding-top: 10px\; padding-right: 0px\; padding-left: 2em\; list-style-position: initial\; list-style-image: initial\; color: rgb(111\, 114\, 135)\; font-size: 16px\; line-height: 1.5rem\; font-family: &quot\;Neue Plak&quot\;\, -apple-system\, BlinkMacSystemFont\, Roboto\, &quot\;Helvetica Neue&quot\;\, Helvetica\, Tahoma\, Arial\, sans-serif\; letter-spacing: 0.5px\;">\n	<li style="margin: 0px\; padding: 0px\;"><span style="font-weight: 700\; padding-top: 0px\;">Applying for a SBA loan vs. unemployment or both</span></li>\n	<li style="margin: 0px\; padding: 5px 0px 0px\;"><span style="font-weight: 700\; padding-top: 0px\;">Tracking your time as a small business owner or contractor</span></li>\n	<li style="margin: 0px\; padding: 5px 0px 0px\;"><span style="font-weight: 700\; padding-top: 0px\;">Navigating wait times for filing claims</span></li>\n	<li style="margin: 0px\; padding: 5px 0px 0px\;"><span style="font-weight: 700\; padding-top: 0px\;">Reasons for disqualification and how to navigate the appeal process</span></li>\n	<li style="margin: 0px\; padding: 5px 0px 0px\;"><span style="font-weight: 700\; padding-top: 0px\;">Eligibility for retroactive pay</span></li>\n	<li style="margin: 0px\; padding: 5px 0px 0px\;"><span style="font-weight: 700\; padding-top: 0px\;">Fraud and identity theft and how it impacts weekly claims</span></li>\n</ul>\n\n<p style="margin: 0px\; padding: 10px 0px 0px\; color: rgb(111\, 114\, 135)\; font-size: 16px\; line-height: 1.5rem\; font-family: &quot\;Neue Plak&quot\;\, -apple-system\, BlinkMacSystemFont\, Roboto\, &quot\;Helvetica Neue&quot\;\, Helvetica\, Tahoma\, Arial\, sans-serif\; letter-spacing: 0.5px\;">Send over some of your own questions to [info@washingtonfilmworks.org] and we&rsquo\;ll add them into the mix! (And if you attend the webinar\, you&rsquo\;ll have a chance to ask them there as well).</p>\n<br />\n&nbsp\;
LOCATION:online: https://www.eventbrite.com/e/finding-your-way-out-of-the-maze-an-unemployment-webinar-for-gig-workers-tickets-109737305234?fbclid=IwAR1OXqK98ilr6ac4Uq-W7AVUoP0lwv8KSozB5sE011UUX_u-NEiOGFwKsBw
UID:e.289.7726
SEQUENCE:3
DTSTAMP:20260424T223348Z
URL:https://business.wenatchee.org/events/details/finding-your-way-out-of-the-unemployment-maze-7726
END:VEVENT

END:VCALENDAR
