BEGIN:VCALENDAR
VERSION:2.0
PRODID:-//ChamberMaster//Event Calendar 2.0//EN
METHOD:PUBLISH
X-PUBLISHED-TTL:P3D
REFRESH-INTERVAL:P3D
CALSCALE:GREGORIAN
BEGIN:VEVENT
DTSTART:20190116T163000Z
DTEND:20190116T173000Z
X-MICROSOFT-CDO-ALLDAYEVENT:FALSE
SUMMARY:Federal Updates\, Tax Cuts\, & the Jobs Act
DESCRIPTION:Tim Dilley and Kyle Meissner with Cordell\, Neher & Company\, PLLC will provide updates on the significant tax changes initiating in 2019. The program is free for Wenatchee Valley Chamber and Wenatchee Downtown Association members!
X-ALT-DESC;FMTTYPE=text/html:Tim Dilley and Kyle Meissner with Cordell\, Neher &amp\; Company\, PLLC will provide updates on the significant tax changes initiating in 2019. The program is free for Wenatchee Valley Chamber and Wenatchee Downtown Association members!
LOCATION:Wenatchee Convention Center
UID:e.289.7006
SEQUENCE:3
DTSTAMP:20260426T025945Z
URL:https://business.wenatchee.org/events/details/federal-updates-tax-cuts-the-jobs-act-7006
END:VEVENT

END:VCALENDAR
