BEGIN:VCALENDAR
VERSION:2.0
PRODID:-//ChamberMaster//Event Calendar 2.0//EN
METHOD:PUBLISH
X-PUBLISHED-TTL:P3D
REFRESH-INTERVAL:P3D
CALSCALE:GREGORIAN
BEGIN:VEVENT
DTSTART:20210519T190000Z
DTEND:20210519T200000Z
X-MICROSOFT-CDO-ALLDAYEVENT:FALSE
SUMMARY:Fear-Less Public Speaking
DESCRIPTION:Presenters: Distinguished Toastmasters Victoria Chadderton and Kristina Stepper\n\n\n\nFear of public speaking is the most common phobia --- ahead of death\, spiders\, or heights. Really? Most people would rather be the one being remembered than the one giving the eulogy? It's true! In fact\, studies show that public speaking anxiety afflicts about 73% of the population. If you're part of that supermajority or just want to polish your speaking skills\, come join us for a lively conversation focused on your success. We'll share tips and tricks that will give you more confidence\, discuss the unique challenges of virtual meetings\, and introduce you to opportunities to practice and polish your skills. It's all our best advice to help you become a fear-less public speaker whether you're chatting one-on-one with a client or peer\, giving a presentation at work\, or speaking to an audience.\n\n\n\nThis event is FREE\, please be sure to register to get the Zoom link!
X-ALT-DESC;FMTTYPE=text/html:<br />\n<span style="font-size:16px\;"><span style="font-family:verdana\;">Presenters: Distinguished Toastmasters Victoria Chadderton and Kristina Stepper</span><br />\n<br />\nFear of public speaking is the most common phobia --- ahead of death\, spiders\, or heights. Really? Most people would rather be the one being remembered than the one giving the eulogy? It&rsquo\;s true! In fact\, studies show that public speaking anxiety afflicts about 73% of the population. If you&rsquo\;re part of that supermajority or just want to polish your speaking skills\, come join us for a lively conversation focused on your success. We&rsquo\;ll share tips and tricks that will give you more confidence\, discuss the unique challenges of virtual meetings\, and introduce you to opportunities to practice and polish your skills. It&rsquo\;s all our best advice to help you become a fear-less public speaker whether you&rsquo\;re chatting one-on-one with a client or peer\, giving a presentation at work\, or speaking to an audience.<br />\n<br />\nThis event is FREE\, please be sure to register to get the Zoom link!</span>
LOCATION:ZOOM
UID:e.289.7833
SEQUENCE:3
DTSTAMP:20260422T201836Z
URL:https://business.wenatchee.org/events/details/fear-less-public-speaking-7833
END:VEVENT

END:VCALENDAR
