BEGIN:VCALENDAR
VERSION:2.0
PRODID:-//ChamberMaster//Event Calendar 2.0//EN
METHOD:PUBLISH
X-PUBLISHED-TTL:P3D
REFRESH-INTERVAL:P3D
CALSCALE:GREGORIAN
BEGIN:VEVENT
DTSTART;VALUE=DATE:20210115
DTEND;VALUE=DATE:20210118
TRANSP:TRANSPARENT
X-MICROSOFT-CDO-ALLDAYEVENT:TRUE
SUMMARY:Family Mediation Training
DESCRIPTION:This training is a skill-building course in mediating conflicts between separated and/or divorcing couples.   Topics covered include dissolution process\, asset & debt division\, effects of divorce on children\, power\, control\, and negotiating parenting plans. \n\nPrerequisite: Basic Mediation Training 40-hour Course
X-ALT-DESC;FMTTYPE=text/html:<span style="color: rgb(0\, 0\, 0)\; font-family: avenir-lt-w01_35-light1475496\, sans-serif\; font-size: 15px\;">This training is a skill-building course in mediating conflicts between separated and/or divorcing couples.&nbsp\; &nbsp\;Topics covered include dissolution process\, asset &amp\; debt division\, effects of divorce on children\, power\, control\, and negotiating parenting plans.&nbsp\;</span><br style="color: rgb(0\, 0\, 0)\; font-family: avenir-lt-w01_35-light1475496\, sans-serif\; font-size: 15px\;" />\n<span style="color: rgb(0\, 0\, 0)\; font-family: avenir-lt-w01_35-light1475496\, sans-serif\; font-size: 15px\;">Prerequisite: Basic Mediation Training 40-hour Course</span>
LOCATION:tbd
UID:e.289.7771
SEQUENCE:3
DTSTAMP:20260424T121939Z
URL:https://business.wenatchee.org/events/details/family-mediation-training-7771
END:VEVENT

END:VCALENDAR
