BEGIN:VCALENDAR
VERSION:2.0
PRODID:-//ChamberMaster//Event Calendar 2.0//EN
METHOD:PUBLISH
X-PUBLISHED-TTL:P3D
REFRESH-INTERVAL:P3D
CALSCALE:GREGORIAN
BEGIN:VEVENT
DTSTART:20191017T160000Z
DTEND:20191017T210000Z
X-MICROSOFT-CDO-ALLDAYEVENT:FALSE
SUMMARY:Fall Mushroom Forage with Wenatchee River Institute & Brian Luther
DESCRIPTION:Fall mushroom season is here! Leavenworth resident Brian Luther from the Puget Sound Mycological Society\, will guide us through a fall mushroom forage. The day will begin at the Wenatchee River Institute with a brief introduction to fungi and the environment where it grows and thrives. Brian will then give instruction on what is needed for collecting mushrooms and staying safe while foraging through the forest. Most of the course will be spent outdoors searching for\, and yes collecting!  the delectable beauties found that day. The day will conclude with identifying what is collected and learning about how the bounty of fungi can be used. Please dress for changing fall weather\, and bring your lunch\, snacks and water. Note that the forage may include walking on uneven ground. WRI Otter Van transportation included to forage sites.
X-ALT-DESC;FMTTYPE=text/html:Fall mushroom season is here! Leavenworth resident Brian Luther from the Puget Sound Mycological Society\, will guide us through a fall mushroom forage. The day will begin at the Wenatchee River Institute with a brief introduction to fungi and the environment where it grows and thrives. Brian will then give instruction on what is needed for collecting mushrooms and staying safe while foraging through the forest. Most of the course will be spent outdoors searching for\, and yes collecting! &ndash\;the delectable beauties found that day. The day will conclude with identifying what is collected and learning about how the bounty of fungi can be used. Please dress for changing fall weather\, and bring your lunch\, snacks and water. Note that the forage may include walking on uneven ground. WRI Otter Van transportation included to forage sites.
LOCATION:Wenatchee River Institute and beyond!
UID:e.289.7429
SEQUENCE:3
DTSTAMP:20260425T120618Z
URL:https://business.wenatchee.org/events/details/fall-mushroom-forage-with-wenatchee-river-institute-brian-luther-7429
END:VEVENT

END:VCALENDAR
