BEGIN:VCALENDAR
VERSION:2.0
PRODID:-//ChamberMaster//Event Calendar 2.0//EN
METHOD:PUBLISH
X-PUBLISHED-TTL:P3D
REFRESH-INTERVAL:P3D
CALSCALE:GREGORIAN
BEGIN:VEVENT
DTSTART:20190918T233000Z
DTEND:20190919T013000Z
X-MICROSOFT-CDO-ALLDAYEVENT:FALSE
SUMMARY:Fairfield Inn & Suites By Marriot Ribbon Cutting and Open House
DESCRIPTION:It's time to celebrate East Wenatchee's newest hotel and their staff is ready to impress. Come enjoy hosted beer\, wine and appetizers. Take a personal tour of the guest rooms and amenities this lovely property has to offer. You will be impressed.
X-ALT-DESC;FMTTYPE=text/html:It&#39\;s time to celebrate East Wenatchee&#39\;s newest hotel and their staff is ready to impress. Come enjoy hosted beer\, wine and appetizers. Take a personal tour of the guest rooms and amenities this lovely property has to offer. You will be impressed.
LOCATION:201 Valley Mall Pkwy East Wenatchee\, WA 98802
UID:e.289.7418
SEQUENCE:3
DTSTAMP:20260425T134810Z
URL:https://business.wenatchee.org/events/details/fairfield-inn-suites-by-marriot-ribbon-cutting-and-open-house-7418
END:VEVENT

END:VCALENDAR
